BEGIN:VCALENDAR
VERSION:2.0
PRODID:-//ASTI - ECPv4.9.10//NONSGML v1.0//EN
CALSCALE:GREGORIAN
METHOD:PUBLISH
X-WR-CALNAME:ASTI
X-ORIGINAL-URL:https://asti.or.id
X-WR-CALDESC:Events for ASTI
BEGIN:VTIMEZONE
TZID:Asia/Krasnoyarsk
BEGIN:STANDARD
TZOFFSETFROM:+0700
TZOFFSETTO:+0700
TZNAME:+07
DTSTART:20190101T000000
END:STANDARD
END:VTIMEZONE
BEGIN:VEVENT
DTSTART;TZID=Asia/Krasnoyarsk:20191112T090000
DTEND;TZID=Asia/Krasnoyarsk:20191112T150000
DTSTAMP:20260423T163940
CREATED:20191108T004139Z
LAST-MODIFIED:20241102T023323Z
UID:2485-1573549200-1573570800@asti.or.id
SUMMARY:RAKERNAS DAN SEMINAR ASTI 2019
DESCRIPTION:Rakernas dan Seminar asti \n\nTertib Organisasi Melalui Rakernas\n\nMengandung DPD ASTI\n\n\nSinkronisasi Regulasi Standar pelayanan dengan LKP SPA\n\nPemahaman dan pemenuhan regulasi untuk menjamin peningkatan profesionalitas. Diharapkan para trainer dan pengelola mengetahui regulasi yang berlaku saat ini untuk dapat menyesuaikan pada penerapan dan pelatihannya Narasumber : Drs. Teguh Susanto\, Amd\, Ft\n\n\nScrapping Massage\n\nMerupakan salah satu metode pengobatan alternatif yang berasal dari China. Dimana dalam perawatan ini dianggap mampu memecah energi\, mengurangi peradangan dan meningkatkan penyembuhan. Menggunakan sejanis batu giok dengan teknik yang benar pada tubuh dan wajah akan memberikan banyak manfaat. Narasumber: Wina Latifah Sari AMF.SE.\,Dipl CIDESCO\n\n\n\n
URL:https://asti.or.id/?tribe_events=rakernas-dan-seminar-asti-2019
CATEGORIES:Event
ATTACH;FMTTYPE=image/jpeg:https://asti.or.id/wp-content/uploads/2016/03/rakernas_dan_seminar_asti_2019.jpeg
END:VEVENT
END:VCALENDAR